BEGIN:VCALENDAR
VERSION:2.0
METHOD:PUBLISH
BEGIN:VEVENT
DTSTART:20220225T170000
DTEND:20220225T190000
LOCATION:online
TRANSP: OPAQUE
SEQUENCE:0
UID:event2018@jcmm.cz
DTSTAMP:20260424T105205
SUMMARY:Jak je možné, že naše dítě myslí tak dospěle
DESCRIPTION:Asynchronní vývoj nadaných dětí - „Jak je možné, že naše dítě myslí tak dospěle
PRIORITY:1
CLASS:PUBLIC
BEGIN:VALARM
TRIGGER:-PT1440M
ACTION:DISPLAY
DESCRIPTION:Reminder
END:VALARM
END:VEVENT
END:VCALENDAR
