BEGIN:VCALENDAR
VERSION:2.0
METHOD:PUBLISH
BEGIN:VEVENT
DTSTART:20230601T130000
DTEND:20230601T170000
LOCATION:MU,  Přírodovědecká fakulta
TRANSP: OPAQUE
SEQUENCE:0
UID:event2549@jcmm.cz
DTSTAMP:20260421T121633
SUMMARY:Umí viry léčit?
DESCRIPTION:Umí viry léčit?
PRIORITY:1
CLASS:PUBLIC
BEGIN:VALARM
TRIGGER:-PT1440M
ACTION:DISPLAY
DESCRIPTION:Reminder
END:VALARM
END:VEVENT
END:VCALENDAR
