BEGIN:VCALENDAR
VERSION:2.0
METHOD:PUBLISH
BEGIN:VEVENT
DTSTART:20240614T090000
DTEND:20240614T140000
LOCATION:Masarykův onkologický ústav
TRANSP: OPAQUE
SEQUENCE:0
UID:event2896@jcmm.cz
DTSTAMP:20260419T150547
SUMMARY:Molekulární biologie nádorové buňky.
DESCRIPTION:Molekulární biologie nádorové buňky.
PRIORITY:1
CLASS:PUBLIC
BEGIN:VALARM
TRIGGER:-PT1440M
ACTION:DISPLAY
DESCRIPTION:Reminder
END:VALARM
END:VEVENT
END:VCALENDAR
